BEGIN:VCALENDAR
VERSION:2.0
PRODID:-//FFCEL - ECPv4.9.13//NONSGML v1.0//EN
CALSCALE:GREGORIAN
METHOD:PUBLISH
X-ORIGINAL-URL:https://ffcel.lu
X-WR-CALDESC:Évènements pour FFCEL
BEGIN:VTIMEZONE
TZID:Europe/Paris
BEGIN:DAYLIGHT
TZOFFSETFROM:+0100
TZOFFSETTO:+0200
TZNAME:CEST
DTSTART:20190331T010000
END:DAYLIGHT
BEGIN:STANDARD
TZOFFSETFROM:+0200
TZOFFSETTO:+0100
TZNAME:CET
DTSTART:20191027T010000
END:STANDARD
END:VTIMEZONE
BEGIN:VEVENT
DTSTART;TZID=Europe/Paris:20191011T140000
DTEND;TZID=Europe/Paris:20191011T170000
DTSTAMP:20200122T202758
CREATED:20190628T084428Z
LAST-MODIFIED:20191017T123410Z
UID:268-1570802400-1570813200@ffcel.lu
SUMMARY:Workshop: Le Processus de Recrutement
DESCRIPTION:De l’analyse du besoin à l’intégration du collaborateur\n \nRecruter un salarié est un évènement important dans la vie d’une entreprise\, d’autant plus pour une TPE/PME. Il est donc primordial de s’y prendre avec méthode et de connaître les différentes phases. Nous vous présenterons les étapes clés pour optimiser vos recrutements\, de la définition des besoins et du profil jusqu’à l’intégration du nouveau salarié au sein de l’entreprise. \nLa formation sera donnée par Céline Campi de Eivilux et Caroline Lamboley de Lamboley Executive Search \n\n\n .main-table_562 tr { border: 1px solid #d1d1d1 !important; } table { border-collapse: collapse; } .row-qty { width: 15%; } .row-name { width: 30%; } .row-price { width: 15%; } .row-desc { width: 40%; }01234567891011121314151617181920212223242526272829303132333435363738394041424344454647484950Membre55.00 EURUniquement pour les membres en ordre de cotisation01234567891011121314151617181920212223242526272829303132333435363738394041424344454647484950Non Membre65.00 EURVous recevrez votre ticket par email après le paiement\n
URL:https://ffcel.lu/event/workshop/
LOCATION:Novotel Centre\, 35 Rue du Laboratoire\, Luxembourg\, Luxembourg
CATEGORIES:Evènements Passés
ATTACH;FMTTYPE=image/jpeg:https://ffcel.lu/wp-content/uploads/2019/06/workshop-745017_960_720.jpg
END:VEVENT
END:VCALENDAR