BEGIN:VCALENDAR
VERSION:2.0
PRODID:-//FFCEL - ECPv4.9.13//NONSGML v1.0//EN
CALSCALE:GREGORIAN
METHOD:PUBLISH
X-ORIGINAL-URL:https://ffcel.lu
X-WR-CALDESC:Évènements pour FFCEL
BEGIN:VTIMEZONE
TZID:Europe/Luxembourg
BEGIN:DAYLIGHT
TZOFFSETFROM:+0100
TZOFFSETTO:+0200
TZNAME:CEST
DTSTART:20190331T010000
END:DAYLIGHT
BEGIN:STANDARD
TZOFFSETFROM:+0200
TZOFFSETTO:+0100
TZNAME:CET
DTSTART:20191027T010000
END:STANDARD
END:VTIMEZONE
BEGIN:VEVENT
DTSTART;TZID=Europe/Luxembourg:20190924T120000
DTEND;TZID=Europe/Luxembourg:20190924T140000
DTSTAMP:20200122T202718
CREATED:20190627T132355Z
LAST-MODIFIED:20191024T065158Z
UID:210-1569326400-1569333600@ffcel.lu
SUMMARY:Lunch Chrono:Gestion de votre stress de dirigeante\, prévenir l'épuisement
DESCRIPTION:La formation a été donnée par Lilly Hoenck de Mindcare\n\nQuelques images : \n.fusion-gallery-1 .fusion-gallery-image {border:0px solid #f6f6f6;}\n  \n  \n
URL:https://ffcel.lu/event/lunch-chrono/
LOCATION:l’atelier de Windsor\, Bertrange\, 5 Rue des Merovingiens\, Bertrange\, 8070\, Luxembourg
CATEGORIES:Evènements Passés
ATTACH;FMTTYPE=image/jpeg:https://ffcel.lu/wp-content/uploads/2019/06/stress.jpg
END:VEVENT
END:VCALENDAR